BEGIN:VCALENDAR
VERSION:2.0
PRODID:-//Eventin//Event Calendar//EN
CALSCALE:GREGORIAN
METHOD:PUBLISH
BEGIN:VEVENT
UID:ab51ae4daad623ba72c0d4af82247905@aeni-international.org
SUMMARY:The Vijana Jasiri Rites of Passage Program - 2026
DESCRIPTION:The Vijana Jasiri Rites of Passage Program - 2026\nRaising grou
 nded\, confident\, God-fearing men does not happen by chance. It requires i
 ntentionality\, strong values\, and the right environment. We are blessed t
 o offer a Christ-centred life-defining rite of passage for boys between 12 
 and 16 years in 2026.\n🛡️ THE VIJANA JASIRI DIFFERENCE\nWe guide boys 
 to:\n\nUnderstand their identity & God’s calling.\nTransition intentional
 ly from boyhood to responsible manhood.\nBuild unshakeable character\, conf
 idence\, and moral courage.\nLearn respect\, leadership\, and service.\nBe 
 mentored by exemplary Christian men.\n\n📍 SETTING\nHosted at the serene\
 , secure\, and purpose-built Christian International Conference Centre (BTL
 )\, Ruiru — the perfect environment for reflection\, healing\, and growth
 .\nSee facility: http://www.btlcicc.org/\n📅 2026 COHORTS – PLAN AHEAD\
 n\nCohort 1: 13th – 23rd July 2026 (Registration Deadline: 30th June 2026
 )\nCohort 2: 9th – 19th November 2026\nCohort 3: 30th Nov – 9th Decembe
 r 2026\n\nSpaces are limited to ensure quality mentorship.\n⭐ PROGRAM HIG
 HLIGHTS\n\nA dignified\, professional\, and culturally grounded circumcisio
 n by qualified medical personnel.\nDaily discipleship\, life-skills trainin
 g\, and emotional wellness sessions.\nStructured routines that build discip
 line\, responsibility\, and independence.\nA 2-year post-program mentorship
  for lasting impact.\n\n🤝 AT AENI\, WE DON’T JUST HOST PROGRAMS — WE
  WALK JOURNEYS\nWe partner with parents to raise boys who are spiritually a
 nchored\, emotionally balanced\, and ready to impact their world.\n📝 SEC
 URE YOUR SON’S SPOT NOW\nRegister your interest here:\nhttps://docs.googl
 e.com/forms/d/e/1FAIpQLSdXfj_5GvLe3EYTUrClhglw3iDSOiNc0W4vI9CtCl-bVjr8aw/vi
 ewform?usp=header\n📞 Questions? Call/WhatsApp: +254 780 319 499 / +254 7
 10 941 388\n🌐 www.aeni-international.org\nAENI International — Shaping
  boys. Forming men. Impacting generations.
LOCATION:Christian International Conference Centre (BTL)\, Ruiru
DTSTAMP:20260422T134914Z
DTSTART:20260713T050000Z
DTEND:20260723T140000Z
END:VEVENT
END:VCALENDAR
